BEGIN:VCALENDAR
VERSION:2.0
PRODID:-//Dirección de Género, Mujeres y Diversidades - ECPv6.15.20//NONSGML v1.0//EN
CALSCALE:GREGORIAN
METHOD:PUBLISH
X-ORIGINAL-URL:https://mujeresydiversidadesvalpo.cl
X-WR-CALDESC:Eventos para Dirección de Género, Mujeres y Diversidades
REFRESH-INTERVAL;VALUE=DURATION:PT1H
X-Robots-Tag:noindex
X-PUBLISHED-TTL:PT1H
BEGIN:VTIMEZONE
TZID:America/Sao_Paulo
BEGIN:STANDARD
TZOFFSETFROM:-0300
TZOFFSETTO:-0300
TZNAME:-03
DTSTART:20250101T000000
END:STANDARD
END:VTIMEZONE
BEGIN:VEVENT
DTSTART;TZID=America/Sao_Paulo:20260302T103000
DTEND;TZID=America/Sao_Paulo:20260313T170000
DTSTAMP:20260423T173541
CREATED:20260302T132047Z
LAST-MODIFIED:20260302T132047Z
UID:4456-1772447400-1773421200@mujeresydiversidadesvalpo.cl
SUMMARY:Inauguración de Exposición “Forjadoras de Valparaíso”
DESCRIPTION:Exposición dispuesta por el Museo de Bellas Artes de Valparaíso que visibiliza la trayectoria de 11 mujeres que fueron clave en la construcción social\, cultural y política de la ciudad durante los siglos XIX y XX.
URL:https://mujeresydiversidadesvalpo.cl/evento/inauguracion-de-exposicion-forjadoras-de-valparaiso/
LOCATION:Edificio Consistorial\, Condell 1490\, Valparaíso\, Valparaíso\, 2340000\, Chile
CATEGORIES:Mes de las Mujeres
END:VEVENT
BEGIN:VEVENT
DTSTART;TZID=America/Sao_Paulo:20260303T093000
DTEND;TZID=America/Sao_Paulo:20260313T163000
DTSTAMP:20260423T173541
CREATED:20260302T132724Z
LAST-MODIFIED:20260302T132724Z
UID:4464-1772530200-1773419400@mujeresydiversidadesvalpo.cl
SUMMARY:Tren de Salud Laguna Verde
DESCRIPTION:Contaremos con ginecología\, vacunación\, mamografías\, atención odontológica y más. 
URL:https://mujeresydiversidadesvalpo.cl/evento/tren-de-salud-laguna-verde/
LOCATION:Delegación Laguna Verde\, Edén Bajo N°20\, Laguna Verde\, Valparaíso\, Valparaíso\, 2340000\, Chile
CATEGORIES:Mes de las Mujeres
END:VEVENT
BEGIN:VEVENT
DTSTART;TZID=America/Sao_Paulo:20260306T180000
DTEND;TZID=America/Sao_Paulo:20260313T190000
DTSTAMP:20260423T173541
CREATED:20260302T151518Z
LAST-MODIFIED:20260302T151518Z
UID:4512-1772820000-1773428400@mujeresydiversidadesvalpo.cl
SUMMARY:Obra "VECINAS" Teatro LaWasha
DESCRIPTION:6 de marzo Plaza Santa Margarita\, Cerro Larraín\n7 de marzo Centro Comunitario “Las Cañas”\n13 de marzo Espacio Santa Ana\, Cerro Cordillera
URL:https://mujeresydiversidadesvalpo.cl/evento/obra-vecinas-teatro-lawasha/
CATEGORIES:Mes de las Mujeres
END:VEVENT
BEGIN:VEVENT
DTSTART;VALUE=DATE:20260312
DTEND;VALUE=DATE:20260313
DTSTAMP:20260423T173541
CREATED:20260302T140614Z
LAST-MODIFIED:20260302T140614Z
UID:4483-1773273600-1773359999@mujeresydiversidadesvalpo.cl
SUMMARY:Taller de Presentación OMIL para mujeres y diversidades
DESCRIPTION:
URL:https://mujeresydiversidadesvalpo.cl/evento/taller-de-presentacion-omil-para-mujeres-y-diversidades/
LOCATION:Edificio Utópica\, Huito 322\, Valparaíso\, Valparaíso\, 2340000\, Chile
CATEGORIES:Mes de las Mujeres
END:VEVENT
BEGIN:VEVENT
DTSTART;TZID=America/Sao_Paulo:20260312T180000
DTEND;TZID=America/Sao_Paulo:20260312T203000
DTSTAMP:20260423T173541
CREATED:20260302T140905Z
LAST-MODIFIED:20260302T140905Z
UID:4484-1773338400-1773347400@mujeresydiversidadesvalpo.cl
SUMMARY:Película: Thelma and Louise
DESCRIPTION:
URL:https://mujeresydiversidadesvalpo.cl/evento/pelicula-thelma-and-louise/
LOCATION:Cine Insomnia\, Condell 1585\, Valparaíso\, Valparaíso\, 2340000\, Chile
CATEGORIES:Mes de las Mujeres
END:VEVENT
END:VCALENDAR