BEGIN:VCALENDAR
VERSION:2.0
PRODID:-//Dirección de Género, Mujeres y Diversidades - ECPv6.15.20//NONSGML v1.0//EN
CALSCALE:GREGORIAN
METHOD:PUBLISH
X-WR-CALNAME:Dirección de Género, Mujeres y Diversidades
X-ORIGINAL-URL:https://mujeresydiversidadesvalpo.cl
X-WR-CALDESC:Eventos para Dirección de Género, Mujeres y Diversidades
REFRESH-INTERVAL;VALUE=DURATION:PT1H
X-Robots-Tag:noindex
X-PUBLISHED-TTL:PT1H
BEGIN:VTIMEZONE
TZID:America/Sao_Paulo
BEGIN:STANDARD
TZOFFSETFROM:-0300
TZOFFSETTO:-0300
TZNAME:-03
DTSTART:20250101T000000
END:STANDARD
END:VTIMEZONE
BEGIN:VEVENT
DTSTART;TZID=America/Sao_Paulo:20260324T100000
DTEND;TZID=America/Sao_Paulo:20260324T130000
DTSTAMP:20260423T173212
CREATED:20260302T144808Z
LAST-MODIFIED:20260302T144808Z
UID:4496-1774346400-1774357200@mujeresydiversidadesvalpo.cl
SUMMARY:Taller de Autonomía Económica
DESCRIPTION:
URL:https://mujeresydiversidadesvalpo.cl/evento/taller-de-autonomia-economica/
LOCATION:Edificio Utópica\, Huito 322\, Valparaíso\, Valparaíso\, 2340000\, Chile
CATEGORIES:Mes de las Mujeres
END:VEVENT
END:VCALENDAR