BEGIN:VCALENDAR
VERSION:2.0
PRODID:-//Dirección de Género, Mujeres y Diversidades - ECPv6.15.20//NONSGML v1.0//EN
CALSCALE:GREGORIAN
METHOD:PUBLISH
X-ORIGINAL-URL:https://mujeresydiversidadesvalpo.cl
X-WR-CALDESC:Eventos para Dirección de Género, Mujeres y Diversidades
REFRESH-INTERVAL;VALUE=DURATION:PT1H
X-Robots-Tag:noindex
X-PUBLISHED-TTL:PT1H
BEGIN:VTIMEZONE
TZID:America/Sao_Paulo
BEGIN:STANDARD
TZOFFSETFROM:-0300
TZOFFSETTO:-0300
TZNAME:-03
DTSTART:20250101T000000
END:STANDARD
END:VTIMEZONE
BEGIN:VEVENT
DTSTART;VALUE=DATE:20260325
DTEND;VALUE=DATE:20260326
DTSTAMP:20260423T175953
CREATED:20260302T144858Z
LAST-MODIFIED:20260302T144858Z
UID:4497-1774396800-1774483199@mujeresydiversidadesvalpo.cl
SUMMARY:Taller de derechos laborales para mujeres trabajadoras en periodo de lactancia
DESCRIPTION:
URL:https://mujeresydiversidadesvalpo.cl/evento/taller-de-derechos-laborales-para-mujeres-trabajadoras-en-periodo-de-lactancia/
LOCATION:Edificio Utópica\, Huito 322\, Valparaíso\, Valparaíso\, 2340000\, Chile
CATEGORIES:Mes de las Mujeres
END:VEVENT
END:VCALENDAR