BEGIN:VCALENDAR
VERSION:2.0
PRODID:-//Dirección de Género, Mujeres y Diversidades - ECPv6.15.20//NONSGML v1.0//EN
CALSCALE:GREGORIAN
METHOD:PUBLISH
X-WR-CALNAME:Dirección de Género, Mujeres y Diversidades
X-ORIGINAL-URL:https://mujeresydiversidadesvalpo.cl
X-WR-CALDESC:Eventos para Dirección de Género, Mujeres y Diversidades
REFRESH-INTERVAL;VALUE=DURATION:PT1H
X-Robots-Tag:noindex
X-PUBLISHED-TTL:PT1H
BEGIN:VTIMEZONE
TZID:America/Sao_Paulo
BEGIN:STANDARD
TZOFFSETFROM:-0300
TZOFFSETTO:-0300
TZNAME:-03
DTSTART:20250101T000000
END:STANDARD
END:VTIMEZONE
BEGIN:VEVENT
DTSTART;VALUE=DATE:20260330
DTEND;VALUE=DATE:20260331
DTSTAMP:20260423T184258
CREATED:20260302T145120Z
LAST-MODIFIED:20260302T145120Z
UID:4506-1774828800-1774915199@mujeresydiversidadesvalpo.cl
SUMMARY:Lanzamiento del Fondo de Fortalecimiento y Asociatividad: “Igualdad Porteña”
DESCRIPTION:
URL:https://mujeresydiversidadesvalpo.cl/evento/lanzamiento-del-fondo-de-fortalecimiento-y-asociatividad-igualdad-portena/
LOCATION:Edificio Utópica\, Huito 322\, Valparaíso\, Valparaíso\, 2340000\, Chile
CATEGORIES:Mes de las Mujeres
END:VEVENT
END:VCALENDAR