BEGIN:VCALENDAR
VERSION:2.0
PRODID:-//Dirección de Género, Mujeres y Diversidades - ECPv6.15.20//NONSGML v1.0//EN
CALSCALE:GREGORIAN
METHOD:PUBLISH
X-ORIGINAL-URL:https://mujeresydiversidadesvalpo.cl
X-WR-CALDESC:Eventos para Dirección de Género, Mujeres y Diversidades
REFRESH-INTERVAL;VALUE=DURATION:PT1H
X-Robots-Tag:noindex
X-PUBLISHED-TTL:PT1H
BEGIN:VTIMEZONE
TZID:America/Sao_Paulo
BEGIN:STANDARD
TZOFFSETFROM:-0300
TZOFFSETTO:-0300
TZNAME:-03
DTSTART:20250101T000000
END:STANDARD
END:VTIMEZONE
BEGIN:VEVENT
DTSTART;TZID=America/Sao_Paulo:20260302T103000
DTEND;TZID=America/Sao_Paulo:20260313T170000
DTSTAMP:20260423T192559
CREATED:20260302T132047Z
LAST-MODIFIED:20260302T132047Z
UID:4456-1772447400-1773421200@mujeresydiversidadesvalpo.cl
SUMMARY:Inauguración de Exposición “Forjadoras de Valparaíso”
DESCRIPTION:Exposición dispuesta por el Museo de Bellas Artes de Valparaíso que visibiliza la trayectoria de 11 mujeres que fueron clave en la construcción social\, cultural y política de la ciudad durante los siglos XIX y XX.
URL:https://mujeresydiversidadesvalpo.cl/evento/inauguracion-de-exposicion-forjadoras-de-valparaiso/
LOCATION:Edificio Consistorial\, Condell 1490\, Valparaíso\, Valparaíso\, 2340000\, Chile
CATEGORIES:Mes de las Mujeres
END:VEVENT
BEGIN:VEVENT
DTSTART;TZID=America/Sao_Paulo:20260303T093000
DTEND;TZID=America/Sao_Paulo:20260313T163000
DTSTAMP:20260423T192559
CREATED:20260302T132724Z
LAST-MODIFIED:20260302T132724Z
UID:4464-1772530200-1773419400@mujeresydiversidadesvalpo.cl
SUMMARY:Tren de Salud Laguna Verde
DESCRIPTION:Contaremos con ginecología\, vacunación\, mamografías\, atención odontológica y más. 
URL:https://mujeresydiversidadesvalpo.cl/evento/tren-de-salud-laguna-verde/
LOCATION:Delegación Laguna Verde\, Edén Bajo N°20\, Laguna Verde\, Valparaíso\, Valparaíso\, 2340000\, Chile
CATEGORIES:Mes de las Mujeres
END:VEVENT
BEGIN:VEVENT
DTSTART;TZID=America/Sao_Paulo:20260306T180000
DTEND;TZID=America/Sao_Paulo:20260313T190000
DTSTAMP:20260423T192559
CREATED:20260302T151518Z
LAST-MODIFIED:20260302T151518Z
UID:4512-1772820000-1773428400@mujeresydiversidadesvalpo.cl
SUMMARY:Obra "VECINAS" Teatro LaWasha
DESCRIPTION:6 de marzo Plaza Santa Margarita\, Cerro Larraín\n7 de marzo Centro Comunitario “Las Cañas”\n13 de marzo Espacio Santa Ana\, Cerro Cordillera
URL:https://mujeresydiversidadesvalpo.cl/evento/obra-vecinas-teatro-lawasha/
CATEGORIES:Mes de las Mujeres
END:VEVENT
BEGIN:VEVENT
DTSTART;TZID=America/Sao_Paulo:20260310T170000
DTEND;TZID=America/Sao_Paulo:20260310T190000
DTSTAMP:20260423T192559
CREATED:20260302T135043Z
LAST-MODIFIED:20260302T135043Z
UID:4475-1773162000-1773169200@mujeresydiversidadesvalpo.cl
SUMMARY:Recorrido Ruta de la Memoria
DESCRIPTION:Punto de encuentro Av. Gran Bretaña 851
URL:https://mujeresydiversidadesvalpo.cl/evento/recorrido-ruta-de-la-memoria/
LOCATION:Av. Gran Bretaña\, Av. Gran Bretaña 851\, Valparaíso\, Valparaíso\, 2340000\, Chile
CATEGORIES:Mes de las Mujeres
END:VEVENT
BEGIN:VEVENT
DTSTART;TZID=America/Sao_Paulo:20260311T150000
DTEND;TZID=America/Sao_Paulo:20260311T160000
DTSTAMP:20260423T192559
CREATED:20260302T135921Z
LAST-MODIFIED:20260302T200551Z
UID:4482-1773241200-1773244800@mujeresydiversidadesvalpo.cl
SUMMARY:Taller Piso Pélvico
DESCRIPTION:Inscríbete acá📋 \n  \n 
URL:https://mujeresydiversidadesvalpo.cl/evento/taller-piso-pelvico/
LOCATION:Edificio Utópica\, Huito 322\, Valparaíso\, Valparaíso\, 2340000\, Chile
CATEGORIES:Mes de las Mujeres
END:VEVENT
BEGIN:VEVENT
DTSTART;VALUE=DATE:20260312
DTEND;VALUE=DATE:20260313
DTSTAMP:20260423T192559
CREATED:20260302T140614Z
LAST-MODIFIED:20260302T140614Z
UID:4483-1773273600-1773359999@mujeresydiversidadesvalpo.cl
SUMMARY:Taller de Presentación OMIL para mujeres y diversidades
DESCRIPTION:
URL:https://mujeresydiversidadesvalpo.cl/evento/taller-de-presentacion-omil-para-mujeres-y-diversidades/
LOCATION:Edificio Utópica\, Huito 322\, Valparaíso\, Valparaíso\, 2340000\, Chile
CATEGORIES:Mes de las Mujeres
END:VEVENT
BEGIN:VEVENT
DTSTART;TZID=America/Sao_Paulo:20260312T180000
DTEND;TZID=America/Sao_Paulo:20260312T203000
DTSTAMP:20260423T192559
CREATED:20260302T140905Z
LAST-MODIFIED:20260302T140905Z
UID:4484-1773338400-1773347400@mujeresydiversidadesvalpo.cl
SUMMARY:Película: Thelma and Louise
DESCRIPTION:
URL:https://mujeresydiversidadesvalpo.cl/evento/pelicula-thelma-and-louise/
LOCATION:Cine Insomnia\, Condell 1585\, Valparaíso\, Valparaíso\, 2340000\, Chile
CATEGORIES:Mes de las Mujeres
END:VEVENT
BEGIN:VEVENT
DTSTART;TZID=America/Sao_Paulo:20260313T093000
DTEND;TZID=America/Sao_Paulo:20260313T163000
DTSTAMP:20260423T192559
CREATED:20260302T141005Z
LAST-MODIFIED:20260302T141005Z
UID:4485-1773394200-1773419400@mujeresydiversidadesvalpo.cl
SUMMARY:Día de las mujeres en Laguna Verde
DESCRIPTION:Talleres\, operativos jurídico y social\, karaoke y más.
URL:https://mujeresydiversidadesvalpo.cl/evento/dia-de-las-mujeres-en-laguna-verde/
LOCATION:Delegación Laguna Verde\, Edén Bajo N°20\, Laguna Verde\, Valparaíso\, Valparaíso\, 2340000\, Chile
CATEGORIES:Mes de las Mujeres
END:VEVENT
BEGIN:VEVENT
DTSTART;VALUE=DATE:20260317
DTEND;VALUE=DATE:20260318
DTSTAMP:20260423T192559
CREATED:20260302T141043Z
LAST-MODIFIED:20260302T141043Z
UID:4486-1773705600-1773791999@mujeresydiversidadesvalpo.cl
SUMMARY:1er Encuentro de Red de Lideresas en Contra la Violencia
DESCRIPTION:
URL:https://mujeresydiversidadesvalpo.cl/evento/1er-encuentro-de-red-de-lideresas-en-contra-la-violencia/
LOCATION:Edificio Consistorial\, Condell 1490\, Valparaíso\, Valparaíso\, 2340000\, Chile
CATEGORIES:Mes de las Mujeres
END:VEVENT
BEGIN:VEVENT
DTSTART;VALUE=DATE:20260318
DTEND;VALUE=DATE:20260319
DTSTAMP:20260423T192559
CREATED:20260302T142202Z
LAST-MODIFIED:20260302T142202Z
UID:4493-1773792000-1773878399@mujeresydiversidadesvalpo.cl
SUMMARY:Jornada de Yoga en la Playa
DESCRIPTION:
URL:https://mujeresydiversidadesvalpo.cl/evento/jornada-de-yoga-en-la-playa/
LOCATION:Playa Las Torpederas\, Altamirano 22100\, Valparaíso\, Valparaíso\, 2340000\, Chile
CATEGORIES:Mes de las Mujeres
END:VEVENT
BEGIN:VEVENT
DTSTART;TZID=America/Sao_Paulo:20260319T150000
DTEND;TZID=America/Sao_Paulo:20260319T160000
DTSTAMP:20260423T192559
CREATED:20260302T142404Z
LAST-MODIFIED:20260302T142404Z
UID:4494-1773932400-1773936000@mujeresydiversidadesvalpo.cl
SUMMARY:CREACIÓN BANCO DE LECHE: Taller online de Lactancia
DESCRIPTION:
URL:https://mujeresydiversidadesvalpo.cl/evento/creacion-banco-de-leche-taller-online-de-lactancia/
CATEGORIES:Mes de las Mujeres
END:VEVENT
BEGIN:VEVENT
DTSTART;TZID=America/Sao_Paulo:20260324T100000
DTEND;TZID=America/Sao_Paulo:20260324T130000
DTSTAMP:20260423T192559
CREATED:20260302T144808Z
LAST-MODIFIED:20260302T144808Z
UID:4496-1774346400-1774357200@mujeresydiversidadesvalpo.cl
SUMMARY:Taller de Autonomía Económica
DESCRIPTION:
URL:https://mujeresydiversidadesvalpo.cl/evento/taller-de-autonomia-economica/
LOCATION:Edificio Utópica\, Huito 322\, Valparaíso\, Valparaíso\, 2340000\, Chile
CATEGORIES:Mes de las Mujeres
END:VEVENT
BEGIN:VEVENT
DTSTART;VALUE=DATE:20260325
DTEND;VALUE=DATE:20260326
DTSTAMP:20260423T192559
CREATED:20260302T144858Z
LAST-MODIFIED:20260302T144858Z
UID:4497-1774396800-1774483199@mujeresydiversidadesvalpo.cl
SUMMARY:Taller de derechos laborales para mujeres trabajadoras en periodo de lactancia
DESCRIPTION:
URL:https://mujeresydiversidadesvalpo.cl/evento/taller-de-derechos-laborales-para-mujeres-trabajadoras-en-periodo-de-lactancia/
LOCATION:Edificio Utópica\, Huito 322\, Valparaíso\, Valparaíso\, 2340000\, Chile
CATEGORIES:Mes de las Mujeres
END:VEVENT
BEGIN:VEVENT
DTSTART;VALUE=DATE:20260326
DTEND;VALUE=DATE:20260327
DTSTAMP:20260423T192559
CREATED:20260302T145000Z
LAST-MODIFIED:20260302T145000Z
UID:4504-1774483200-1774569599@mujeresydiversidadesvalpo.cl
SUMMARY:Taller de apresto laboral
DESCRIPTION:
URL:https://mujeresydiversidadesvalpo.cl/evento/taller-de-apresto-laboral/
LOCATION:Edificio Utópica\, Huito 322\, Valparaíso\, Valparaíso\, 2340000\, Chile
CATEGORIES:Mes de las Mujeres
END:VEVENT
BEGIN:VEVENT
DTSTART;TZID=America/Sao_Paulo:20260327T173000
DTEND;TZID=America/Sao_Paulo:20260327T223000
DTSTAMP:20260423T192559
CREATED:20260302T142745Z
LAST-MODIFIED:20260316T185314Z
UID:4495-1774632600-1774650600@mujeresydiversidadesvalpo.cl
SUMMARY:Festival Juntas
DESCRIPTION:
URL:https://mujeresydiversidadesvalpo.cl/evento/festival-juntas/
LOCATION:Plaza Sotomayor\, Plaza Sotomayor\, Valparaíso\, Valparaíso\, 2340000\, Chile
CATEGORIES:Mes de las Mujeres
END:VEVENT
BEGIN:VEVENT
DTSTART;TZID=America/Sao_Paulo:20260327T180000
DTEND;TZID=America/Sao_Paulo:20260327T190000
DTSTAMP:20260423T192559
CREATED:20260302T145050Z
LAST-MODIFIED:20260302T145050Z
UID:4505-1774634400-1774638000@mujeresydiversidadesvalpo.cl
SUMMARY:Inicio Grupo de pares para transfemenidades
DESCRIPTION:
URL:https://mujeresydiversidadesvalpo.cl/evento/inicio-grupo-de-pares-para-transfemenidades/
LOCATION:Edificio Utópica\, Huito 322\, Valparaíso\, Valparaíso\, 2340000\, Chile
CATEGORIES:Mes de las Mujeres
END:VEVENT
BEGIN:VEVENT
DTSTART;VALUE=DATE:20260330
DTEND;VALUE=DATE:20260331
DTSTAMP:20260423T192559
CREATED:20260302T145120Z
LAST-MODIFIED:20260302T145120Z
UID:4506-1774828800-1774915199@mujeresydiversidadesvalpo.cl
SUMMARY:Lanzamiento del Fondo de Fortalecimiento y Asociatividad: “Igualdad Porteña”
DESCRIPTION:
URL:https://mujeresydiversidadesvalpo.cl/evento/lanzamiento-del-fondo-de-fortalecimiento-y-asociatividad-igualdad-portena/
LOCATION:Edificio Utópica\, Huito 322\, Valparaíso\, Valparaíso\, 2340000\, Chile
CATEGORIES:Mes de las Mujeres
END:VEVENT
END:VCALENDAR